BEGIN:VCALENDAR
VERSION:2.0
PRODID:-//Broadwater Elementary School - ECPv6.15.20//NONSGML v1.0//EN
CALSCALE:GREGORIAN
METHOD:PUBLISH
X-ORIGINAL-URL:https://broadwater.helenaschools.org
X-WR-CALDESC:Events for Broadwater Elementary School
REFRESH-INTERVAL;VALUE=DURATION:PT1H
X-Robots-Tag:noindex
X-PUBLISHED-TTL:PT1H
BEGIN:VTIMEZONE
TZID:America/Denver
BEGIN:DAYLIGHT
TZOFFSETFROM:-0700
TZOFFSETTO:-0600
TZNAME:MDT
DTSTART:20230312T090000
END:DAYLIGHT
BEGIN:STANDARD
TZOFFSETFROM:-0600
TZOFFSETTO:-0700
TZNAME:MST
DTSTART:20231105T080000
END:STANDARD
BEGIN:DAYLIGHT
TZOFFSETFROM:-0700
TZOFFSETTO:-0600
TZNAME:MDT
DTSTART:20240310T090000
END:DAYLIGHT
BEGIN:STANDARD
TZOFFSETFROM:-0600
TZOFFSETTO:-0700
TZNAME:MST
DTSTART:20241103T080000
END:STANDARD
BEGIN:DAYLIGHT
TZOFFSETFROM:-0700
TZOFFSETTO:-0600
TZNAME:MDT
DTSTART:20250309T090000
END:DAYLIGHT
BEGIN:STANDARD
TZOFFSETFROM:-0600
TZOFFSETTO:-0700
TZNAME:MST
DTSTART:20251102T080000
END:STANDARD
END:VTIMEZONE
BEGIN:VEVENT
DTSTART;TZID=America/Denver:20241007T080000
DTEND;TZID=America/Denver:20241011T160000
DTSTAMP:20260424T013302
CREATED:20240919T195259Z
LAST-MODIFIED:20240919T195259Z
UID:10000347-1728288000-1728662400@broadwater.helenaschools.org
SUMMARY:Book Fair
DESCRIPTION:
URL:https://broadwater.helenaschools.org/event/book-fair/
LOCATION:Broadwater Elementary
END:VEVENT
BEGIN:VEVENT
DTSTART;TZID=America/Denver:20241008T094500
DTEND;TZID=America/Denver:20241008T113000
DTSTAMP:20260424T013302
CREATED:20240920T171818Z
LAST-MODIFIED:20240920T180705Z
UID:10000351-1728380700-1728387000@broadwater.helenaschools.org
SUMMARY:Fire Station Field Trip
DESCRIPTION:
URL:https://broadwater.helenaschools.org/event/fire-station-field-trip/
END:VEVENT
BEGIN:VEVENT
DTSTART;TZID=America/Denver:20241008T153000
DTEND;TZID=America/Denver:20241008T180000
DTSTAMP:20260424T013302
CREATED:20240920T181430Z
LAST-MODIFIED:20240920T181430Z
UID:10000352-1728401400-1728410400@broadwater.helenaschools.org
SUMMARY:Parent Teacher Conferences
DESCRIPTION:
URL:https://broadwater.helenaschools.org/event/parent-teacher-conferences/2024-10-08/
LOCATION:Broadwater Elementary
END:VEVENT
END:VCALENDAR