BEGIN:VCALENDAR
VERSION:2.0
PRODID:-//Broadwater Elementary School - ECPv6.15.20//NONSGML v1.0//EN
CALSCALE:GREGORIAN
METHOD:PUBLISH
X-ORIGINAL-URL:https://broadwater.helenaschools.org
X-WR-CALDESC:Events for Broadwater Elementary School
REFRESH-INTERVAL;VALUE=DURATION:PT1H
X-Robots-Tag:noindex
X-PUBLISHED-TTL:PT1H
BEGIN:VTIMEZONE
TZID:America/Denver
BEGIN:DAYLIGHT
TZOFFSETFROM:-0700
TZOFFSETTO:-0600
TZNAME:MDT
DTSTART:20230312T090000
END:DAYLIGHT
BEGIN:STANDARD
TZOFFSETFROM:-0600
TZOFFSETTO:-0700
TZNAME:MST
DTSTART:20231105T080000
END:STANDARD
BEGIN:DAYLIGHT
TZOFFSETFROM:-0700
TZOFFSETTO:-0600
TZNAME:MDT
DTSTART:20240310T090000
END:DAYLIGHT
BEGIN:STANDARD
TZOFFSETFROM:-0600
TZOFFSETTO:-0700
TZNAME:MST
DTSTART:20241103T080000
END:STANDARD
BEGIN:DAYLIGHT
TZOFFSETFROM:-0700
TZOFFSETTO:-0600
TZNAME:MDT
DTSTART:20250309T090000
END:DAYLIGHT
BEGIN:STANDARD
TZOFFSETFROM:-0600
TZOFFSETTO:-0700
TZNAME:MST
DTSTART:20251102T080000
END:STANDARD
END:VTIMEZONE
BEGIN:VEVENT
DTSTART;TZID=America/Denver:20241014T153000
DTEND;TZID=America/Denver:20241014T180000
DTSTAMP:20260423T172734
CREATED:20240920T181430Z
LAST-MODIFIED:20240920T181430Z
UID:10000353-1728919800-1728928800@broadwater.helenaschools.org
SUMMARY:Parent Teacher Conferences
DESCRIPTION:
URL:https://broadwater.helenaschools.org/event/parent-teacher-conferences/2024-10-14/
LOCATION:Broadwater Elementary
END:VEVENT
BEGIN:VEVENT
DTSTART;VALUE=DATE:20241017
DTEND;VALUE=DATE:20241019
DTSTAMP:20260423T172734
CREATED:20240919T195427Z
LAST-MODIFIED:20240919T195636Z
UID:10000348-1729123200-1729295999@broadwater.helenaschools.org
SUMMARY:Educator Conference - NO SCHOOL
DESCRIPTION:
URL:https://broadwater.helenaschools.org/event/educator-conference-no-school/
LOCATION:Broadwater Elementary
END:VEVENT
END:VCALENDAR